BEGIN:VCALENDAR
VERSION:2.0
PRODID:-//FestiBike - ECPv6.15.17.1//NONSGML v1.0//EN
CALSCALE:GREGORIAN
METHOD:PUBLISH
X-WR-CALNAME:FestiBike
X-ORIGINAL-URL:https://festibike.fr
X-WR-CALDESC:Évènements pour FestiBike
REFRESH-INTERVAL;VALUE=DURATION:PT1H
X-Robots-Tag:noindex
X-PUBLISHED-TTL:PT1H
BEGIN:VTIMEZONE
TZID:Europe/Paris
BEGIN:DAYLIGHT
TZOFFSETFROM:+0100
TZOFFSETTO:+0200
TZNAME:CEST
DTSTART:20220327T010000
END:DAYLIGHT
BEGIN:STANDARD
TZOFFSETFROM:+0200
TZOFFSETTO:+0100
TZNAME:CET
DTSTART:20221030T010000
END:STANDARD
BEGIN:DAYLIGHT
TZOFFSETFROM:+0100
TZOFFSETTO:+0200
TZNAME:CEST
DTSTART:20230326T010000
END:DAYLIGHT
BEGIN:STANDARD
TZOFFSETFROM:+0200
TZOFFSETTO:+0100
TZNAME:CET
DTSTART:20231029T010000
END:STANDARD
BEGIN:DAYLIGHT
TZOFFSETFROM:+0100
TZOFFSETTO:+0200
TZNAME:CEST
DTSTART:20240331T010000
END:DAYLIGHT
BEGIN:STANDARD
TZOFFSETFROM:+0200
TZOFFSETTO:+0100
TZNAME:CET
DTSTART:20241027T010000
END:STANDARD
END:VTIMEZONE
BEGIN:VEVENT
DTSTART;TZID=Europe/Paris:20230603T073000
DTEND;TZID=Europe/Paris:20230603T083000
DTSTAMP:20260426T034553
CREATED:20230318T182211Z
LAST-MODIFIED:20230602T132830Z
UID:25302-1685777400-1685781000@festibike.fr
SUMMARY:Randonnée Extrême 2023
DESCRIPTION:Toutes les inscriptions en ligne se sont arrêtées le 1er juin 2023 à 23h30.\nBonne nouvelle : vous pourrez vous inscrire sur place! Rdv à l’accueil!! \n\nLa randonnée Extrême est accessible à partir de 18 ans.\nElle s’adresse aux pilotes avertis ! C’est une Rando sportive et physique !\nLes traces GPS seront fournies la veille par mail. \n\n 70 km – 1700m de D+ \nA partir de 18 ans \nRamiers de Lacroix Falgarde \nTélécharger le règlement \n\n\nRetrait des plaques à partir de 7h \nDéparts entre 7h30 et 8h30 \nRavitaillements offerts sur le parcours \nPas de balisage – GPS obligatoire \n\nJusqu’au 19.05 : 12 € ou 20 € avec le maillot / Du 20.05 au 31.05 : 14 € ou 22 € avec le maillot\nLe jour J : 17 € ou 25 € avec le maillot
URL:https://festibike.fr/inscription/randonnee-extreme-2023/
LOCATION:Les Ramiers\, Lacroix-Falgarde\, 31120\, France
CATEGORIES:Randonnées
ATTACH;FMTTYPE=image/jpeg:https://festibike.fr/wp-content/uploads/2023/03/randonnee_extreme_mob_festibiketour_2023.jpg
ORGANIZER;CN="FestiBike (Ridin'Family)":MAILTO:contact@festibike.fr
END:VEVENT
END:VCALENDAR